BEGIN:VCALENDAR
VERSION:2.0
PRODID:-//Blue Soul Earth - ECPv6.15.14//NONSGML v1.0//EN
CALSCALE:GREGORIAN
METHOD:PUBLISH
X-WR-CALNAME:Blue Soul Earth
X-ORIGINAL-URL:https://bluesoulearth.com
X-WR-CALDESC:Events for Blue Soul Earth
REFRESH-INTERVAL;VALUE=DURATION:PT1H
X-Robots-Tag:noindex
X-PUBLISHED-TTL:PT1H
BEGIN:VTIMEZONE
TZID:UTC
BEGIN:STANDARD
TZOFFSETFROM:+0000
TZOFFSETTO:+0000
TZNAME:UTC
DTSTART:20250101T000000
END:STANDARD
END:VTIMEZONE
BEGIN:VEVENT
DTSTART;TZID=UTC:20260101T110000
DTEND;TZID=UTC:20260101T180000
DTSTAMP:20260422T045552
CREATED:20251212T020446Z
LAST-MODIFIED:20251212T020446Z
UID:266970-1767265200-1767290400@bluesoulearth.com
SUMMARY:Jan 1 New Years Soul Renewal Darshan in Marin
DESCRIPTION:January 1\, 2026: Join us in Marin for a NEW YEAR’S DARSHAN\, which is a oneness experience. We call them Blue Soul Darshans\, and kundalini activations are part of the experience. We also do breathwork\, incorporate sound\, mantras\, and ceremony into the day. Think about the experience with biofield activations and soul messages as a process that will ignite your spiritual journey or amplify one you’re already on. The day honors each participant in the room to receive a truly unique Darshan Activation experience. We’ll combine meditation and slowing down the mind with soul-expanding ceremony and heart-opening energy transmissions. Many have described it this way: A soul renewal\, a clarity they haven’t felt in years or ever\, a greater opening to their heart\, deep healing\, inner joy and bliss and an expansion of consciousness. There will be individual work and collective energy attunements to unite us into a place of oneness and interconnectedness. You can register by emailing at info at bluesoulearth dot com. I’ll send along the QR codes so you can register. It is sliding scale $115 to $150.
URL:https://bluesoulearth.com/our-calendar/jan-1-new-years-soul-renewal-darshan-in-marin/
LOCATION:CA
CATEGORIES:Blue Soul Darshans
ATTACH;FMTTYPE=image/png:https://bluesoulearth.com/wp-content/uploads/Jan-1-Darshan-Calendar.png
END:VEVENT
BEGIN:VEVENT
DTSTART;TZID=UTC:20260103T093000
DTEND;TZID=UTC:20260103T110000
DTSTAMP:20260422T045552
CREATED:20251212T014633Z
LAST-MODIFIED:20251214T014702Z
UID:266963-1767432600-1767438000@bluesoulearth.com
SUMMARY:Jan 3 Live New Year Channeling
DESCRIPTION:January 3\, 2026: Join us for a live free holiday channeling on Saturday\, Jan 3 at 9:30 am PST (12:30 pm EST) and evening in Europe. There will be a message but it will also be interactive\, so you can show up with your most pressing questions. Free to attend but you must register in advance: https://www.eventbrite.com/e/1861806365959?aff=oddtdtcreator
URL:https://bluesoulearth.com/our-calendar/jan-3-live-new-year-channeling/
LOCATION:Zoom Channeling
CATEGORIES:Zoom Channeling
ATTACH;FMTTYPE=image/png:https://bluesoulearth.com/wp-content/uploads/Jan-3-channeling.png
END:VEVENT
BEGIN:VEVENT
DTSTART;TZID=UTC:20260107T173000
DTEND;TZID=UTC:20260107T190000
DTSTAMP:20260422T045552
CREATED:20251212T013057Z
LAST-MODIFIED:20251212T013057Z
UID:266955-1767807000-1767812400@bluesoulearth.com
SUMMARY:Magdalene's Sisters: Jan 7 (New Year Beginnings)
DESCRIPTION:Jan 7\, 2026: Join us for a live channeling session of Mary Magdalene (for women only). As a full embodied channel\, Anthony will bring forth the Magdalene with a message and to take questions from registered attendees. To register email us at info at bluesoulearth dot com after you pay using one of the methods below and let us know what month it is for.
URL:https://bluesoulearth.com/our-calendar/magdalenes-sisters-jan-7-new-year-beginnings/
LOCATION:Zoom Channeling
CATEGORIES:Magdalene
ATTACH;FMTTYPE=image/png:https://bluesoulearth.com/wp-content/uploads/Mag-Sisters-Jan.png
END:VEVENT
BEGIN:VEVENT
DTSTART;TZID=UTC:20260110T100000
DTEND;TZID=UTC:20260111T170000
DTSTAMP:20260422T045552
CREATED:20251212T015147Z
LAST-MODIFIED:20251212T015331Z
UID:266965-1768039200-1768150800@bluesoulearth.com
SUMMARY:Jan 10-11: Renee & Anthony @ Soul Search - Rohnert Park
DESCRIPTION:Jan 10-11 2026: Join us at the Soul Search Enlightenment Expo in Rohnert Park CA all weekend. We’ll have a booth at the expo and will be speaking on Saturday afternoon where we’ll talk about lessons learned and shared in our new book Magdalene’s Journey: Behind the Scenes with Mary Magdalene\, a Rich Channeling Experience. We’ll honor the Divine Feminine we each have in all of us. In addition to taking questions from the audience about their teachings and/or life\, we will also be reading an excerpt from our book. It’s free to attend if you register in advance. https://www.soulsearch.io/rohnertparkexpo\n \n \n  \n 
URL:https://bluesoulearth.com/our-calendar/jan-10-11-renee-anthony-soul-search-rohnert-park/
LOCATION:Doubletree by Hilton Sonoma\, One Doubletree Drive\, Rohnert Park\, CA\, 94928\, United States
CATEGORIES:Conference,Marin Event,Soul Search
ATTACH;FMTTYPE=image/png:https://bluesoulearth.com/wp-content/uploads/soul-search-jan-10-11.png
END:VEVENT
END:VCALENDAR